{"text_format":"1","workbook":"xlsx","n_sheets":4,"sheets":["入力シート","集計シート","EVT集計シート","PCIレポート"],"not_rendered":{"charts":1,"images":6,"macros":1,"external_links":0,"defined_names":23,"comments":0,"pivot_tables":0},"unopened":[],"bounds":{"document_bytes":16777216,"sheet_cells":100000,"rows_first":2000,"rows_last":500,"rows_between":2000,"halvings":0,"cell_chars":16384,"cell_head_chars":4096},"cells_cut":0,"cells_raw":0,"read":"whole","date_system":"1900"}

{"sheet":"入力シート","index":0,"n_rows":88,"n_cols":18,"rows_kept":88,"cut":false,"hidden":false,"merged":[[84,12,86,12],[81,3,86,3],[60,3,70,3],[69,12,73,12],[74,12,78,12],[60,12,68,12],[79,12,83,12],[60,9,64,9],[65,9,68,9],[25,6,28,6],[16,0,23,0],[9,0,15,0],[4,0,8,0],[74,0,80,0],[60,6,65,6],[66,6,68,6],[9,6,14,6],[71,3,75,3],[0,6,0,7],[2,0,2,1],[3,0,3,1],[0,0,0,2],[0,3,0,5],[2,6,8,6],[93,3,95,3],[69,9,76,9],[77,9,81,9],[69,6,75,6],[76,6,81,6],[82,6,84,6],[85,6,89,6],[90,6,93,6],[82,9,86,9],[87,3,92,3],[76,3,80,3],[13,9,16,9],[12,15,16,15],[12,12,16,12],[17,12,21,12],[21,9,25,9],[17,9,20,9],[2,9,12,9],[2,15,6,15],[7,15,11,15],[2,12,6,12],[7,12,11,12],[28,12,32,12],[22,12,26,12],[22,15,27,15],[17,15,21,15],[26,9,31,9],[28,15,32,15],[81,0,87,0],[29,6,32,6],[24,0,34,0],[2,3,10,3],[11,3,14,3],[15,3,24,3],[25,3,32,3],[15,6,17,6],[18,6,24,6],[65,0,65,1],[66,0,73,0],[60,0,60,1],[61,0,61,1],[62,0,62,1],[63,0,63,1],[64,0,64,1]]}
[]
[]
["PCI症例数",null,0,"特殊Balloon　Catheter","Wolverine",0,"MicroCatheter","Asahi Caravel",0,"IVUS Imaging　Device","ボストン",0,"新規PM　DDD","Medtronic",0,"交換PM　DDD","Medtronic",0]
["FFR症例数",null,0,null,"Ryusei",0,null,"Zizai",0,null,"テルモ",0,null,"BIOTRONIK",0,null,"BIOTRONIK",0]
["FFR"," PressureWireX",0,null,"NSE",0,null,"Mizuki",0,null,"フィリップス",0,null,"abbott",0,null,"abbott",0]
[null,"COMETⅡ",0,null,"Score Flex NC",0,null,"Mogul",0,null,"ニプロ",0,null,"Microport",0,null,"Microport",0]
[null,"FFRangio",0,null,"Angio Sculpt",0,null,null,0,null,"アシスト",0,null,"Lifeline",0,null,"Lifeline",0]
[null,null,0,null,null,0,null,null,0,null,null,0,"新規PM　SSI","Medtronic",0,"交換PM　SSI","Medtronic",0]
[null,null,0,null,null,0,null,null,0,null,null,0,null,"BIOTRONIK",0,null,"BIOTRONIK",0]
["Guiding\n Catheter","ASAHI Hyperion",0,null,null,0,"貫通Catheter","ASAHI Corsair　Pro",0,null,null,0,null,"abbott",0,null,"abbott",0]
[null,"Heartrail2",0,null,null,0,null,"Tornus Pro",0,null,null,0,null,"Microport",0,null,"Microport",0]
[null,"LAUNCHER/TAIGA",0,"Coronary\nDCB","SeQuent Please",0,null,"Finecross",0,null,null,0,null,"Lifeline",0,null,"Lifeline",0]
[null,"ROADMASTER",0,null,"Agent",0,null,"ルミネ",0,null,null,0,"新規CRT-P","Medtronic",0,"交換CRT-P","Medtronic",0]
[null,null,0,null,null,0,null,null,0,"OCT Imaging　Device","Fast View",0,null,"BIOTRONIK",0,null,"BIOTRONIK",0]
[null,null,0,null,null,0,null,null,0,null,"Dragonfly",0,null,"abbott",0,null,"abbott",0]
[null,null,0,"Coronary Stent","Ultimaster",0,"DLC","Asahi SASUKE",0,null,null,0,null,"Microport",0,null,"Microport",0]
["Guide Wire","朝日インテック",0,null,"Xience",0,null,"Crusade　Type-R",0,null,null,0,null,"Lifeline",0,null,"Lifeline",0]
[null,"テルモ",0,null,"Synergy　XD",0,null,null,0,"止血Device","Perclose",0,"新規CRT-D","Medtronic",0,"交換CRT-D","Medtronic",0]
[null,"アボット",0,null,"Resolute Onyx",0,"Aspiration Catheter","Rebirth Pro",0,null,"Exoseal",0,null,"BIOTRONIK",0,null,"BIOTRONIK",0]
[null,"ボストン",0,null,"Orsiro",0,null,"Thrombuster",0,null,"Angio-seal",0,null,"abbott",0,null,"abbott",0]
[null,"大塚メディカル",0,null,"GRAFTMASTER",0,null,"Export Advance",0,null,null,0,null,"Microport",0,null,"Microport",0]
[null,"ニプロ",0,null,"Croflex ISAR NEO",0,null,"Eliminate",0,"Atherectomy","Diamondback",0,null,"Lifeline",0,null,"Lifeline",0]
[null,null,0,null,null,0,null,null,0,null,"ROTA",0,"新規ICD","Medtronic",0,"交換ICD","Medtronic",0]
[null,null,0,null,null,0,null,null,0,null,"DCA",0,null,"BIOTRONIK",0,null,"BIOTRONIK",0]
["Balloon Catheter","テルモ",0,null,null,0,null,null,0,null,"Excimer Laser",0,null,"abbott",0,null,"abbott",0]
[null,"カネカ",0,"Guide Extension","ニプロ",0,"Exchange Device","KUSABI",0,null,null,0,null,"Microport",0,null,"Microport",0]
[null,"ネイチ",0,null,"カネカ",0,null,"Trapper",0,"IAB","ゲティンゲ",0,null,"Lifeline",0,null,"Lifeline",0]
[null,"メドトロ",0,null,"メドトロ",0,null,"EZ Keeper",0,null,"泉工医科",0,null,"JLL S-ICD",0,null,"JLL S-ICD",0]
[null,"アボット",0,null,"ボストン",0,null,null,0,null,"東海メディカル",0,"ICM","Medtronic",0,"リードレスPM","Med Micra",0]
[null,"朝日インテック",0,null,null,0,"異物除去","FILTRAP",0,null,null,0,null,"BIOTRONIK",0,null,null,0]
[null,"ニプロ",0,null,null,0,null,"SoutenirCV",0,null,null,0,null,"abbott",0,null,null,0]
[null,"ボストン",0,null,null,0,null,null,0,null,null,0,null,null,0,null,null,0]
[null,null,0,null,null,0,null,null,0,null,null,null,null,null,0,null,null,0]
[null,null,0]
[null,null,0]
[]
[]
[]
[]
[]
[]
[]
[]
[]
[]
[]
[]
[]
[]
[]
[]
[]
[]
[]
[]
[]
[]
[]
[]
[]
["EVT件数",null,0,"0.014”BDC","コヨーテ",0,"特殊Balloon\nCatheter","カッティングBC",0,"Aspiration \nCatheter","Rebirth Pro2",0,"ILIAC STENT","Epic",0]
["EVAR件数",null,0,null,"コヨーテES",0,null,"NSE PTA",0,null,"Thrombuster",0,null,"ルミネックス",0]
["TEVAR件数",null,0,null,"ウルトラバースRx",0,null,"VASCUTRACK",0,null,null,0,null,"スマート",0]
["BAV件数",null,0,null,"アビエーター",0,null,null,0,null,null,0,null,"VBX",0]
["IVC Filter件数",null,0,null,"シデンHP",0,null,null,0,null,null,0,null,"エクスプレスLD",0]
["その他件数",null,0,null,"マストリー",0,null,null,0,"異物除去","FILTRAP",0,null,"Misago",0]
["EVT治療部位\n複数選択可","Aorta",0,null,"シデン",0,"弁拡張\nBalloon","イノウエバルーン",0,null,"SoutenirCV",0,null,null,0]
[null,"Iliac",0,null,"JADE",0,null,null,0,null,null,0,null,null,0]
[null,"SFA/POP/CFA",0,null,null,0,null,null,0,null,null,0,null,null,0]
[null,"BK",0,null,null,0,"MicroCatheter","プロマネント",0,"IVUS \nImaging　\nDevice","ボストン",0,"SFA STENT","ELUVIA",0]
[null,"Subclavian",0,null,null,0,null,"Caravel MC",0,null,"フィリップス",0,null,"Supera",0]
[null,"Renal",0,"0.018”BDC","スターリング",0,null,"Zizai",0,null,"テルモ",0,null,"バイアバーン",0]
[null,"Shunt PTA",0,null,"Senri",0,null,null,0,null,null,0,null,null,0]
[null,null,0,null,null,0,null,null,0,null,null,0,null,null,0]
["Guiding Catheter","Destination",0,null,null,0,null,null,0,null,null,0,"Stent Graft","ゴア腹部",0]
[null,"Parent",0,null,null,0,null,null,0,null,null,0,null,"メドトロ腹部",0]
[null,"CROSSROADS",0,"0.035”BDC","マスタング",0,"貫通Catheter","コルセアPV",0,null,null,0,null,null,0]
[null,"BriteTip",0,null,"アルマダ35",0,null,"コルセアアルメット",0,"止血Device","Perclose",0,null,null,0]
[null,null,0,null,null,0,null,"一番槍PAD2",0,null,"Exoseal",0,null,null,0]
[null,null,0,null,null,0,null,"Guidezilla",0,null,"Angio-seal",0,"IVC Filter","デナリ",0]
[null,null,0,null,null,0,null,null,0,null,null,0,null,"デナリ回収",0]
["Guide Wire","朝日インテック",0,"DCB","Ranger",0,null,null,0,null,null,0,null,null,0]
[null,"ボストン",0,null,"ルートニクス",0,"DLC","クルセードPAD",0,"Atherectomy他","クロッサー",0,null,null,0]
[null,"テルモ",0,null,"インパクト",0,null,null,0,null,"OUTBACK",0,null,null,0]
[null,"ニプロ",0,null,null,0,null,null,0,null,null,0,"Renal\nSTENT","ジェネシス",0]
[null,"コーディス",0,null,null,0,null,null,null,null,null,0,null,"エクスプレスSD",0]
[null,null,0,null,null,0,null,null,null,null,null,0,null,null,0]
[null,null,0]

{"sheet":"集計シート","index":1,"n_rows":7,"n_cols":188,"rows_kept":7,"cut":false,"hidden":false,"merged":[[2,47,2,56],[2,57,2,64],[2,15,2,22],[2,23,2,33],[2,34,2,42],[2,0,4,0],[2,43,2,46],[0,0,0,2],[0,6,0,7],[0,9,0,10],[0,3,0,5],[2,3,2,7],[2,8,2,14],[2,177,2,182],[2,183,2,187],[2,146,2,151],[2,152,2,156],[2,157,2,161],[2,162,2,166],[2,167,2,171],[2,172,2,176],[2,65,2,71],[2,126,2,130],[2,131,2,135],[2,136,2,140],[2,141,2,145],[2,78,2,80],[2,81,2,87],[2,96,2,106],[2,107,2,110],[2,111,2,114],[2,115,2,119],[2,120,2,125],[2,88,2,91],[2,92,2,95],[2,72,2,77]]}
[null,null,null,null,null,null,{"$f":"SUBTOTAL(105,A7:A9415)","v":"2000-01-01"},null,"～",{"$f":"SUBTOTAL(104,A7:A9415)","v":"2000-01-01"}]
[]
[null,{"$f":"入力シート!A3","v":"PCI症例数"},{"$f":"入力シート!A4","v":"FFR症例数"},{"$f":"入力シート!A5","v":"FFR"},null,null,null,null,{"$f":"入力シート!A10","v":"Guiding\n Catheter"},null,null,null,null,null,null,{"$f":"入力シート!A17","v":"Guide Wire"},null,null,null,null,null,null,null,{"$f":"入力シート!A25","v":"Balloon Catheter"},null,null,null,null,null,null,null,null,null,null,{"$f":"入力シート!D3","v":"特殊Balloon　Catheter"},null,null,null,null,null,null,null,null,{"$f":"入力シート!D12","v":"Coronary\nDCB"},null,null,null,{"$f":"入力シート!D16","v":"Coronary Stent"},null,null,null,null,null,null,null,null,null,{"$f":"入力シート!D26","v":"Guide Extension"},null,null,null,null,null,null,null,{"$f":"入力シート!G3","v":"MicroCatheter"},null,null,null,null,null,null,{"$f":"入力シート!G10","v":"貫通Catheter"},null,null,null,null,null,{"$f":"入力シート!G16","v":"DLC"},null,null,{"$f":"入力シート!G19","v":"Aspiration Catheter"},null,null,null,null,null,null,{"$f":"入力シート!G26","v":"Exchange Device"},null,null,null,{"$f":"入力シート!G30","v":"異物除去"},null,null,null,{"$f":"入力シート!J3","v":"IVUS Imaging　Device"},null,null,null,null,null,null,null,null,null,null,{"$f":"入力シート!J14","v":"OCT Imaging　Device"},null,null,null,{"$f":"入力シート!J18","v":"止血Device"},null,null,null,{"$f":"入力シート!J22","v":"Atherectomy"},null,null,null,null,{"$f":"入力シート!J27","v":"IAB"},null,null,null,null,null,{"$f":"入力シート!M3","v":"新規PM　DDD"},null,null,null,null,{"$f":"入力シート!M8","v":"新規PM　SSI"},null,null,null,null,{"$f":"入力シート!M13","v":"新規CRT-P"},null,null,null,null,{"$f":"入力シート!M18","v":"新規CRT-D"},null,null,null,null,{"$f":"入力シート!M23","v":"新規ICD"},null,null,null,null,null,{"$f":"入力シート!M29","v":"ICM"},null,null,null,null,{"$f":"入力シート!P3","v":"交換PM　DDD"},null,null,null,null,{"$f":"入力シート!P8","v":"交換PM　SSI"},null,null,null,null,{"$f":"入力シート!P13","v":"交換CRT-P"},null,null,null,null,{"$f":"入力シート!P18","v":"交換CRT-D"},null,null,null,null,{"$f":"入力シート!P23","v":"交換ICD"},null,null,null,null,null,{"$f":"入力シート!P29","v":"リードレスPM"}]
[null,{"$f":"SUBTOTAL(109,B7:B3939)","v":15},10,2,3,5,0,0,12,1,2,2,0,0,0,5,1,1,1,1,2,0,0,2,1,1,2,1,1,2,1,0,0,{"$f":"SUBTOTAL(109,AH7:AH3939)","v":0},5,1,5,1,1,0,0,0,0,3,3,0,0,2,3,9,2,5,1,4,0,0,0,3,2,5,2,0,0,0,0,{"$f":"SUBTOTAL(109,BN7:BN3939)","v":5},5,1,1,0,0,0,5,2,2,2,0,0,5,4,0,1,1,5,5,0,0,0,4,4,4,0,4,2,0,0,1,{"$f":"SUBTOTAL(109,CT7:CT3939)","v":1},5,1,5,0,0,0,0,0,0,5,5,0,0,4,1,4,0,4,3,5,2,0,1,2,1,0,0,0,1,1,1,{"$f":"SUBTOTAL(109,DZ7:DZ3939)","v":1},1,1,1,1,5,5,3,2,1,1,3,2,1,1,1,2,3,5,4,6,5,4,1,2,3,0,0,2,5,5,2,{"$f":"SUBTOTAL(109,FF7:FF3939)","v":2},2,1,5,3,2,1,5,2,2,2,1,1,4,1,2,1,4,4,4,1,1,1,0,0,0,0]
[null,{"$f":"入力シート!A3","v":"PCI症例数"},{"$f":"入力シート!A4","v":"FFR症例数"},{"$f":"入力シート!B5","v":" PressureWireX"},{"$f":"入力シート!B6","v":"COMETⅡ"},{"$f":"入力シート!B7","v":"FFRangio"},{"$f":"入力シート!B8","v":0},{"$f":"入力シート!B9","v":0},{"$f":"入力シート!B10","v":"ASAHI Hyperion"},{"$f":"入力シート!B11","v":"Heartrail2"},{"$f":"入力シート!B12","v":"LAUNCHER/TAIGA"},{"$f":"入力シート!B13","v":"ROADMASTER"},{"$f":"入力シート!B14","v":0},{"$f":"入力シート!B15","v":0},{"$f":"入力シート!B16","v":0},{"$f":"入力シート!B17","v":"朝日インテック"},{"$f":"入力シート!B18","v":"テルモ"},{"$f":"入力シート!B19","v":"アボット"},{"$f":"入力シート!B20","v":"ボストン"},{"$f":"入力シート!B21","v":"大塚メディカル"},{"$f":"入力シート!B22","v":"ニプロ"},{"$f":"入力シート!B23","v":0},{"$f":"入力シート!B24","v":0},{"$f":"入力シート!B25","v":"テルモ"},{"$f":"入力シート!B26","v":"カネカ"},{"$f":"入力シート!B27","v":"ネイチ"},{"$f":"入力シート!B28","v":"メドトロ"},{"$f":"入力シート!B29","v":"アボット"},{"$f":"入力シート!B30","v":"朝日インテック"},{"$f":"入力シート!B31","v":"ニプロ"},{"$f":"入力シート!B32","v":"ボストン"},{"$f":"入力シート!B33","v":0},{"$f":"入力シート!B34","v":0},{"$f":"入力シート!B35","v":0},{"$f":"入力シート!E3","v":"Wolverine"},{"$f":"入力シート!E4","v":"Ryusei"},{"$f":"入力シート!E5","v":"NSE"},{"$f":"入力シート!E6","v":"Score Flex NC"},{"$f":"入力シート!E7","v":"Angio Sculpt"},{"$f":"入力シート!E8","v":0},{"$f":"入力シート!E9","v":0},{"$f":"入力シート!E10","v":0},{"$f":"入力シート!E11","v":0},{"$f":"入力シート!E12","v":"SeQuent Please"},{"$f":"入力シート!E13","v":"Agent"},{"$f":"入力シート!E14","v":0},{"$f":"入力シート!E15","v":0},{"$f":"入力シート!E16","v":"Ultimaster"},{"$f":"入力シート!E17","v":"Xience"},{"$f":"入力シート!E18","v":"Synergy　XD"},{"$f":"入力シート!E19","v":"Resolute Onyx"},{"$f":"入力シート!E20","v":"Orsiro"},{"$f":"入力シート!E21","v":"GRAFTMASTER"},{"$f":"入力シート!E22","v":"Croflex ISAR NEO"},{"$f":"入力シート!E23","v":0},{"$f":"入力シート!E24","v":0},{"$f":"入力シート!E25","v":0},{"$f":"入力シート!E26","v":"ニプロ"},{"$f":"入力シート!E27","v":"カネカ"},{"$f":"入力シート!E28","v":"メドトロ"},{"$f":"入力シート!E29","v":"ボストン"},{"$f":"入力シート!E30","v":0},{"$f":"入力シート!E31","v":0},{"$f":"入力シート!E32","v":0},{"$f":"入力シート!E33","v":0},{"$f":"入力シート!H3","v":"Asahi Caravel"},{"$f":"入力シート!H4","v":"Zizai"},{"$f":"入力シート!H5","v":"Mizuki"},{"$f":"入力シート!H6","v":"Mogul"},{"$f":"入力シート!H7","v":0},{"$f":"入力シート!H8","v":0},{"$f":"入力シート!H9","v":0},{"$f":"入力シート!H10","v":"ASAHI Corsair　Pro"},{"$f":"入力シート!H11","v":"Tornus Pro"},{"$f":"入力シート!H12","v":"Finecross"},{"$f":"入力シート!H13","v":"ルミネ"},{"$f":"入力シート!H14","v":0},{"$f":"入力シート!H15","v":0},{"$f":"入力シート!H16","v":"Asahi SASUKE"},{"$f":"入力シート!H17","v":"Crusade　Type-R"},{"$f":"入力シート!H18","v":0},{"$f":"入力シート!H19","v":"Rebirth Pro"},{"$f":"入力シート!H20","v":"Thrombuster"},{"$f":"入力シート!H21","v":"Export Advance"},{"$f":"入力シート!H22","v":"Eliminate"},{"$f":"入力シート!H23","v":0},{"$f":"入力シート!H24","v":0},{"$f":"入力シート!H25","v":0},{"$f":"入力シート!H26","v":"KUSABI"},{"$f":"入力シート!H27","v":"Trapper"},{"$f":"入力シート!H28","v":"EZ Keeper"},{"$f":"入力シート!H29","v":0},{"$f":"入力シート!H30","v":"FILTRAP"},{"$f":"入力シート!H31","v":"SoutenirCV"},{"$f":"入力シート!H32","v":0},{"$f":"入力シート!H33","v":0},{"$f":"入力シート!K3","v":"ボストン"},{"$f":"入力シート!K4","v":"テルモ"},{"$f":"入力シート!K5","v":"フィリップス"},{"$f":"入力シート!K6","v":"ニプロ"},{"$f":"入力シート!K7","v":"アシスト"},{"$f":"入力シート!K8","v":0},{"$f":"入力シート!K9","v":0},{"$f":"入力シート!K10","v":0},{"$f":"入力シート!K11","v":0},{"$f":"入力シート!K12","v":0},{"$f":"入力シート!K13","v":0},{"$f":"入力シート!K14","v":"Fast View"},{"$f":"入力シート!K15","v":"Dragonfly"},{"$f":"入力シート!K16","v":0},{"$f":"入力シート!K17","v":0},{"$f":"入力シート!K18","v":"Perclose"},{"$f":"入力シート!K19","v":"Exoseal"},{"$f":"入力シート!K20","v":"Angio-seal"},{"$f":"入力シート!K21","v":0},{"$f":"入力シート!K22","v":"Diamondback"},{"$f":"入力シート!K23","v":"ROTA"},{"$f":"入力シート!K24","v":"DCA"},{"$f":"入力シート!K25","v":"Excimer Laser"},{"$f":"入力シート!K26","v":0},{"$f":"入力シート!K27","v":"ゲティンゲ"},{"$f":"入力シート!K28","v":"泉工医科"},{"$f":"入力シート!K29","v":"東海メディカル"},{"$f":"入力シート!K30","v":0},{"$f":"入力シート!K31","v":0},{"$f":"入力シート!K32","v":0},{"$f":"入力シート!N3","v":"Medtronic"},{"$f":"入力シート!N4","v":"BIOTRONIK"},{"$f":"入力シート!N5","v":"abbott"},{"$f":"入力シート!N6","v":"Microport"},{"$f":"入力シート!N7","v":"Lifeline"},{"$f":"入力シート!N8","v":"Medtronic"},{"$f":"入力シート!N9","v":"BIOTRONIK"},{"$f":"入力シート!N10","v":"abbott"},{"$f":"入力シート!N11","v":"Microport"},{"$f":"入力シート!N12","v":"Lifeline"},{"$f":"入力シート!N13","v":"Medtronic"},{"$f":"入力シート!N14","v":"BIOTRONIK"},{"$f":"入力シート!N15","v":"abbott"},{"$f":"入力シート!N16","v":"Microport"},{"$f":"入力シート!N17","v":"Lifeline"},{"$f":"入力シート!N18","v":"Medtronic"},{"$f":"入力シート!N19","v":"BIOTRONIK"},{"$f":"入力シート!N20","v":"abbott"},{"$f":"入力シート!N21","v":"Microport"},{"$f":"入力シート!N22","v":"Lifeline"},{"$f":"入力シート!N23","v":"Medtronic"},{"$f":"入力シート!N24","v":"BIOTRONIK"},{"$f":"入力シート!N25","v":"abbott"},{"$f":"入力シート!N26","v":"Microport"},{"$f":"入力シート!N27","v":"Lifeline"},{"$f":"入力シート!N28","v":"JLL S-ICD"},{"$f":"入力シート!N29","v":"Medtronic"},{"$f":"入力シート!N30","v":"BIOTRONIK"},{"$f":"入力シート!N31","v":"abbott"},{"$f":"入力シート!N32","v":0},{"$f":"入力シート!N33","v":0},{"$f":"入力シート!Q3","v":"Medtronic"},{"$f":"入力シート!Q4","v":"BIOTRONIK"},{"$f":"入力シート!Q5","v":"abbott"},{"$f":"入力シート!Q6","v":"Microport"},{"$f":"入力シート!Q7","v":"Lifeline"},{"$f":"入力シート!Q8","v":"Medtronic"},{"$f":"入力シート!Q9","v":"BIOTRONIK"},{"$f":"入力シート!Q10","v":"abbott"},{"$f":"入力シート!Q11","v":"Microport"},{"$f":"入力シート!Q12","v":"Lifeline"},{"$f":"入力シート!Q13","v":"Medtronic"},{"$f":"入力シート!Q14","v":"BIOTRONIK"},{"$f":"入力シート!Q15","v":"abbott"},{"$f":"入力シート!Q16","v":"Microport"},{"$f":"入力シート!Q17","v":"Lifeline"},{"$f":"入力シート!Q18","v":"Medtronic"},{"$f":"入力シート!Q19","v":"BIOTRONIK"},{"$f":"入力シート!Q20","v":"abbott"},{"$f":"入力シート!Q21","v":"Microport"},{"$f":"入力シート!Q22","v":"Lifeline"},{"$f":"入力シート!Q23","v":"Medtronic"},{"$f":"入力シート!Q24","v":"BIOTRONIK"},{"$f":"入力シート!Q25","v":"abbott"},{"$f":"入力シート!Q26","v":"Microport"},{"$f":"入力シート!Q27","v":"Lifeline"},{"$f":"入力シート!Q28","v":"JLL S-ICD"},{"$f":"入力シート!Q29","v":"Med Micra"},{"$f":"入力シート!Q30","v":0},{"$f":"入力シート!Q31","v":0},{"$f":"入力シート!Q32","v":0},{"$f":"入力シート!Q33","v":0}]
["日付","PCI症例数","FFR症例数"," PressureWireX","COMETⅡ","FFRangio","0","02","ASAHI Hyperion","Heartrail2","LAUNCHER/TAIGA","ROADMASTER","03","04","05","朝日インテック","テルモ","アボット","ボストン","大塚メディカル","06","07","08","テルモ9","カネカ","ネイチ","メドトロ","アボット10","朝日インテック11","ニプロ","ボストン12","013","014","015","Wolverine","Ryusei","NSE","Score Flex NC","Angio Sculpt","016","017","018","019","SeQuent Please","Agent","020","021","Ultimaster","Xience","Synergy　XD","Resolute Onyx","Orsiro","GRAFTMASTER","Croflex ISAR NEO","022","023","024","ニプロ25","カネカ26","メドトロ27","ボストン28","029","030","031","032","Asahi Caravel","Zizai","Mizuki","Mogul","033","034","035","ASAHI Corsair　Pro","Tornus Pro","Finecross","ルミネ","036","037","Asahi SASUKE","Crusade　Type-R","038","Rebirth Pro","Thrombuster","Export Advance","Eliminate","039","040","041","KUSABI","Trapper","EZ Keeper","042","FILTRAP","SoutenirCV","043","044","OptiCross","AltaView","AnteOwl　WR","Navifocus WR","Eagle Eye","Refinity","045","046","047","048","049","Fast View","Dragonfly","050","051","Perclose","Exoseal","Angio-seal","052","Diamondback","ROTA","DCA","Excimer Laser","053","ゲティンゲ","泉工医科","東海メディカル","054","055","056","Medtronic","BIOTRONIK","abbott","Microport","Lifeline","Medtronic57","BIOTRONIK58","abbott59","Microport60","Lifeline61","Medtronic62","BIOTRONIK63","abbott64","Microport65","Lifeline66","Medtronic67","BIOTRONIK68","abbott69","Microport70","Lifeline71","Medtronic72","BIOTRONIK73","abbott74","Microport75","Lifeline76","JLL S-ICD","Medtronic77","BIOTRONIK78","abbott79","080","081","Medtronic82","BIOTRONIK83","abbott84","Microport85","Lifeline86","Medtronic87","BIOTRONIK88","abbott89","Microport90","Lifeline91","Medtronic92","BIOTRONIK93","abbott94","Microport95","Lifeline96","Medtronic97","BIOTRONIK98","abbott99","Microport100","Lifeline101","Medtronic102","BIOTRONIK103","abbott104","Microport105","Lifeline106","JLL S-ICD107","Med Micra","0108","0109","0110","0111"]
["2000-01-01",15,10,2,3,5,0,0,12,1,2,2,0,0,0,5,1,1,1,1,2,0,0,2,1,1,2,1,1,2,1,0,0,0,5,1,5,1,1,0,0,0,0,3,3,0,0,2,3,9,2,5,1,4,0,0,0,3,2,5,2,0,0,0,0,5,5,1,1,0,0,0,5,2,2,2,0,0,5,4,0,1,1,5,5,0,0,0,4,4,4,0,4,2,0,0,1,1,5,1,5,0,0,0,0,0,0,5,5,0,0,4,1,4,0,4,3,5,2,0,1,2,1,0,0,0,1,1,1,1,1,1,1,1,5,5,3,2,1,1,3,2,1,1,1,2,3,5,4,6,5,4,1,2,3,0,0,2,5,5,2,2,2,1,5,3,2,1,5,2,2,2,1,1,4,1,2,1,4,4,4,1,1,1,0,0,0,0]

{"sheet":"EVT集計シート","index":2,"n_rows":7,"n_cols":153,"rows_kept":7,"cut":false,"hidden":false,"merged":[[0,0,0,2],[0,3,0,5],[2,0,4,0],[2,29,2,39],[2,40,2,44],[2,45,2,49],[2,50,2,55],[2,56,2,61],[0,6,0,7],[0,9,0,10],[2,7,2,14],[2,15,2,21],[2,22,2,28],[2,62,2,64],[2,65,2,71],[2,72,2,77],[2,78,2,80],[2,81,2,85],[2,117,2,121],[2,122,2,126],[2,127,2,131],[2,132,2,134],[2,86,2,89],[2,90,2,97],[2,98,2,102],[2,103,2,107],[2,108,2,116]]}
[null,null,null,null,null,null,{"$f":"SUBTOTAL(105,A7:A9845)","v":"2000-01-01"},null,"～",{"$f":"SUBTOTAL(104,A7:A9845)","v":"2000-01-01"}]
[]
[null,{"$f":"入力シート!A61","v":"EVT件数"},{"$f":"入力シート!A62","v":"EVAR件数"},{"$f":"入力シート!A63","v":"TEVAR件数"},{"$f":"入力シート!A64","v":"BAV件数"},{"$f":"入力シート!A65","v":"IVC Filter件数"},{"$f":"入力シート!A66","v":"その他件数"},{"$f":"入力シート!A67","v":"EVT治療部位\n複数選択可"},null,null,null,null,null,null,null,{"$f":"入力シート!A75","v":"Guiding Catheter"},null,null,null,null,null,null,{"$f":"入力シート!A82","v":"Guide Wire"},null,null,null,null,null,null,{"$f":"入力シート!D61","v":"0.014”BDC"},null,null,null,null,null,null,null,null,null,null,{"$f":"入力シート!D72","v":"0.018”BDC"},null,null,null,null,{"$f":"入力シート!D77","v":"0.035”BDC"},null,null,null,null,{"$f":"入力シート!D82","v":"DCB"},null,null,null,null,null,{"$f":"入力シート!G61","v":"特殊Balloon\nCatheter"},null,null,null,null,null,{"$f":"入力シート!G67","v":"弁拡張\nBalloon"},null,null,{"$f":"入力シート!G70","v":"MicroCatheter"},null,null,null,null,null,null,{"$f":"入力シート!G77","v":"貫通Catheter"},null,null,null,null,null,{"$f":"入力シート!G83","v":"DLC"},null,null,{"$f":"入力シート!J61","v":"Aspiration \nCatheter"},null,null,null,null,{"$f":"入力シート!J66","v":"異物除去"},null,null,null,{"$f":"入力シート!J70","v":"IVUS \nImaging　\nDevice"},null,null,null,null,null,null,null,{"$f":"入力シート!J78","v":"止血Device"},null,null,null,null,{"$f":"入力シート!J83","v":"Atherectomy他"},null,null,null,null,{"$f":"入力シート!M61","v":"ILIAC STENT"},null,null,null,null,null,null,null,null,{"$f":"入力シート!M70","v":"SFA STENT"},null,null,null,null,{"$f":"入力シート!M75","v":"Stent Graft"},null,null,null,null,{"$f":"入力シート!M80","v":"IVC Filter"},null,null,null,null,{"$f":"入力シート!M85","v":"Renal\nSTENT"}]
[null,{"$f":"SUBTOTAL(109,B7:B1359)","v":10},2,1,2,3,1,2,2,1,1,1,1,1,0,4,1,1,1,0,0,0,5,3,2,1,1,0,0,5,2,2,5,{"$f":"SUBTOTAL(109,AH7:AH1359)","v":2},{"$f":"SUBTOTAL(109,AI7:AI1359)","v":2},{"$f":"SUBTOTAL(109,AJ7:AJ1359)","v":2},{"$f":"SUBTOTAL(109,AK7:AK1359)","v":5},{"$f":"SUBTOTAL(109,AL7:AL1359)","v":0},{"$f":"SUBTOTAL(109,AM7:AM1359)","v":0},{"$f":"SUBTOTAL(109,AN7:AN1359)","v":0},{"$f":"SUBTOTAL(109,AO7:AO1359)","v":3},{"$f":"SUBTOTAL(109,AP7:AP1359)","v":2},{"$f":"SUBTOTAL(109,AQ7:AQ1359)","v":0},{"$f":"SUBTOTAL(109,AR7:AR1359)","v":0},{"$f":"SUBTOTAL(109,AS7:AS1359)","v":0},{"$f":"SUBTOTAL(109,AT7:AT1359)","v":2},{"$f":"SUBTOTAL(109,AU7:AU1359)","v":2},{"$f":"SUBTOTAL(109,AV7:AV1359)","v":0},{"$f":"SUBTOTAL(109,AW7:AW1359)","v":0},{"$f":"SUBTOTAL(109,AX7:AX1359)","v":0},{"$f":"SUBTOTAL(109,AY7:AY1359)","v":5},{"$f":"SUBTOTAL(109,AZ7:AZ1359)","v":3},{"$f":"SUBTOTAL(109,BA7:BA1359)","v":3},{"$f":"SUBTOTAL(109,BB7:BB1359)","v":0},{"$f":"SUBTOTAL(109,BC7:BC1359)","v":0},{"$f":"SUBTOTAL(109,BD7:BD1359)","v":0},{"$f":"SUBTOTAL(109,BE7:BE1359)","v":4},{"$f":"SUBTOTAL(109,BF7:BF1359)","v":5},{"$f":"SUBTOTAL(109,BG7:BG1359)","v":4},{"$f":"SUBTOTAL(109,BH7:BH1359)","v":0},{"$f":"SUBTOTAL(109,BI7:BI1359)","v":0},{"$f":"SUBTOTAL(109,BJ7:BJ1359)","v":0},{"$f":"SUBTOTAL(109,BK7:BK1359)","v":5},{"$f":"SUBTOTAL(109,BL7:BL1359)","v":0},{"$f":"SUBTOTAL(109,BM7:BM1359)","v":0},{"$f":"SUBTOTAL(109,BN7:BN1359)","v":4},{"$f":"SUBTOTAL(109,BO7:BO1359)","v":2},{"$f":"SUBTOTAL(109,BP7:BP1359)","v":3},{"$f":"SUBTOTAL(109,BQ7:BQ1359)","v":0},{"$f":"SUBTOTAL(109,BR7:BR1359)","v":0},{"$f":"SUBTOTAL(109,BS7:BS1359)","v":0},{"$f":"SUBTOTAL(109,BT7:BT1359)","v":0},{"$f":"SUBTOTAL(109,BU7:BU1359)","v":5},{"$f":"SUBTOTAL(109,BV7:BV1359)","v":3},{"$f":"SUBTOTAL(109,BW7:BW1359)","v":2},{"$f":"SUBTOTAL(109,BX7:BX1359)","v":2},{"$f":"SUBTOTAL(109,BY7:BY1359)","v":0},{"$f":"SUBTOTAL(109,BZ7:BZ1359)","v":0},{"$f":"SUBTOTAL(109,CA7:CA1359)","v":5},{"$f":"SUBTOTAL(109,CB7:CB1359)","v":0},{"$f":"SUBTOTAL(109,CC7:CC1359)","v":0},{"$f":"SUBTOTAL(109,CD7:CD1359)","v":3},{"$f":"SUBTOTAL(109,CE7:CE1359)","v":6},{"$f":"SUBTOTAL(109,CF7:CF1359)","v":0},{"$f":"SUBTOTAL(109,CG7:CG1359)","v":0},{"$f":"SUBTOTAL(109,CH7:CH1359)","v":0},{"$f":"SUBTOTAL(109,CI7:CI1359)","v":2},{"$f":"SUBTOTAL(109,CJ7:CJ1359)","v":2},{"$f":"SUBTOTAL(109,CK7:CK1359)","v":0},{"$f":"SUBTOTAL(109,CL7:CL1359)","v":0},{"$f":"SUBTOTAL(109,CM7:CM1359)","v":5},{"$f":"SUBTOTAL(109,CN7:CN1359)","v":2},{"$f":"SUBTOTAL(109,CO7:CO1359)","v":3},{"$f":"SUBTOTAL(109,CP7:CP1359)","v":0},{"$f":"SUBTOTAL(109,CQ7:CQ1359)","v":0},{"$f":"SUBTOTAL(109,CR7:CR1359)","v":0},{"$f":"SUBTOTAL(109,CS7:CS1359)","v":0},{"$f":"SUBTOTAL(109,CT7:CT1359)","v":0},{"$f":"SUBTOTAL(109,CU7:CU1359)","v":2},{"$f":"SUBTOTAL(109,CV7:CV1359)","v":3},{"$f":"SUBTOTAL(109,CW7:CW1359)","v":4},{"$f":"SUBTOTAL(109,CX7:CX1359)","v":0},{"$f":"SUBTOTAL(109,CY7:CY1359)","v":0},{"$f":"SUBTOTAL(109,CZ7:CZ1359)","v":2},{"$f":"SUBTOTAL(109,DA7:DA1359)","v":5},{"$f":"SUBTOTAL(109,DB7:DB1359)","v":0},{"$f":"SUBTOTAL(109,DC7:DC1359)","v":0},{"$f":"SUBTOTAL(109,DD7:DD1359)","v":0},{"$f":"SUBTOTAL(109,DE7:DE1359)","v":3},{"$f":"SUBTOTAL(109,DF7:DF1359)","v":2},{"$f":"SUBTOTAL(109,DG7:DG1359)","v":3},{"$f":"SUBTOTAL(109,DH7:DH1359)","v":2},{"$f":"SUBTOTAL(109,DI7:DI1359)","v":2},{"$f":"SUBTOTAL(109,DJ7:DJ1359)","v":2},{"$f":"SUBTOTAL(109,DK7:DK1359)","v":0},{"$f":"SUBTOTAL(109,DL7:DL1359)","v":0},{"$f":"SUBTOTAL(109,DM7:DM1359)","v":0},{"$f":"SUBTOTAL(109,DN7:DN1359)","v":4},{"$f":"SUBTOTAL(109,DO7:DO1359)","v":3},{"$f":"SUBTOTAL(109,DP7:DP1359)","v":2},{"$f":"SUBTOTAL(109,DQ7:DQ1359)","v":0},{"$f":"SUBTOTAL(109,DR7:DR1359)","v":0},{"$f":"SUBTOTAL(109,DS7:DS1359)","v":4},{"$f":"SUBTOTAL(109,DT7:DT1359)","v":2},{"$f":"SUBTOTAL(109,DU7:DU1359)","v":0},{"$f":"SUBTOTAL(109,DV7:DV1359)","v":0},{"$f":"SUBTOTAL(109,DW7:DW1359)","v":0},{"$f":"SUBTOTAL(109,DX7:DX1359)","v":3},{"$f":"SUBTOTAL(109,DY7:DY1359)","v":2},{"$f":"SUBTOTAL(109,DZ7:DZ1359)","v":0},{"$f":"SUBTOTAL(109,EA7:EA1359)","v":0},{"$f":"SUBTOTAL(109,EB7:EB1359)","v":0},{"$f":"SUBTOTAL(109,EC7:EC1359)","v":3},{"$f":"SUBTOTAL(109,ED7:ED1359)","v":3},{"$f":"SUBTOTAL(109,EE7:EE1359)","v":0},{"$f":"SUBTOTAL(109,EF7:EF1359)","v":0},{"$f":"SUBTOTAL(109,EG7:EG1359)","v":0},{"$f":"SUBTOTAL(109,EH7:EH1359)","v":0},{"$f":"SUBTOTAL(109,EI7:EI1359)","v":0},{"$f":"SUBTOTAL(109,EJ7:EJ1359)","v":0},{"$f":"SUBTOTAL(109,EK7:EK1359)","v":0},{"$f":"SUBTOTAL(109,EL7:EL1359)","v":0},{"$f":"SUBTOTAL(109,EM7:EM1359)","v":0},{"$f":"SUBTOTAL(109,EN7:EN1359)","v":0},{"$f":"SUBTOTAL(109,EO7:EO1359)","v":0},{"$f":"SUBTOTAL(109,EP7:EP1359)","v":0},{"$f":"SUBTOTAL(109,EQ7:EQ1359)","v":0},{"$f":"SUBTOTAL(109,ER7:ER1359)","v":0},{"$f":"SUBTOTAL(109,ES7:ES1359)","v":0},{"$f":"SUBTOTAL(109,ET7:ET1359)","v":0},{"$f":"SUBTOTAL(109,EU7:EU1359)","v":0},{"$f":"SUBTOTAL(109,EV7:EV1359)","v":0},{"$f":"SUBTOTAL(109,EW7:EW1359)","v":0}]
[null,{"$f":"入力シート!A61","v":"EVT件数"},{"$f":"入力シート!A62","v":"EVAR件数"},{"$f":"入力シート!A63","v":"TEVAR件数"},{"$f":"入力シート!A64","v":"BAV件数"},{"$f":"入力シート!A65","v":"IVC Filter件数"},{"$f":"入力シート!A66","v":"その他件数"},{"$f":"入力シート!B67","v":"Aorta"},{"$f":"入力シート!B68","v":"Iliac"},{"$f":"入力シート!B69","v":"SFA/POP/CFA"},{"$f":"入力シート!B70","v":"BK"},{"$f":"入力シート!B71","v":"Subclavian"},{"$f":"入力シート!B72","v":"Renal"},{"$f":"入力シート!B73","v":"Shunt PTA"},{"$f":"入力シート!B74","v":0},{"$f":"入力シート!B75","v":"Destination"},{"$f":"入力シート!B76","v":"Parent"},{"$f":"入力シート!B77","v":"CROSSROADS"},{"$f":"入力シート!B78","v":"BriteTip"},{"$f":"入力シート!B79","v":0},{"$f":"入力シート!B80","v":0},{"$f":"入力シート!B81","v":0},{"$f":"入力シート!B82","v":"朝日インテック"},{"$f":"入力シート!B83","v":"ボストン"},{"$f":"入力シート!B84","v":"テルモ"},{"$f":"入力シート!B85","v":"ニプロ"},{"$f":"入力シート!B86","v":"コーディス"},{"$f":"入力シート!B87","v":0},{"$f":"入力シート!B88","v":0},{"$f":"入力シート!E61","v":"コヨーテ"},{"$f":"入力シート!E62","v":"コヨーテES"},{"$f":"入力シート!E63","v":"ウルトラバースRx"},{"$f":"入力シート!E64","v":"アビエーター"},{"$f":"入力シート!E65","v":"シデンHP"},{"$f":"入力シート!E66","v":"マストリー"},{"$f":"入力シート!E67","v":"シデン"},{"$f":"入力シート!E68","v":"JADE"},{"$f":"入力シート!E69","v":0},{"$f":"入力シート!E70","v":0},{"$f":"入力シート!E71","v":0},{"$f":"入力シート!E72","v":"スターリング"},{"$f":"入力シート!E73","v":"Senri"},{"$f":"入力シート!E74","v":0},{"$f":"入力シート!E75","v":0},{"$f":"入力シート!E76","v":0},{"$f":"入力シート!E77","v":"マスタング"},{"$f":"入力シート!E78","v":"アルマダ35"},{"$f":"入力シート!E79","v":0},{"$f":"入力シート!E80","v":0},{"$f":"入力シート!E81","v":0},{"$f":"入力シート!E82","v":"Ranger"},{"$f":"入力シート!E83","v":"ルートニクス"},{"$f":"入力シート!E84","v":"インパクト"},{"$f":"入力シート!E85","v":0},{"$f":"入力シート!E86","v":0},{"$f":"入力シート!E87","v":0},{"$f":"入力シート!H61","v":"カッティングBC"},{"$f":"入力シート!H62","v":"NSE PTA"},{"$f":"入力シート!H63","v":"VASCUTRACK"},{"$f":"入力シート!H64","v":0},{"$f":"入力シート!H65","v":0},{"$f":"入力シート!H66","v":0},{"$f":"入力シート!H67","v":"イノウエバルーン"},{"$f":"入力シート!H68","v":0},{"$f":"入力シート!H69","v":0},{"$f":"入力シート!H70","v":"プロマネント"},{"$f":"入力シート!H71","v":"Caravel MC"},{"$f":"入力シート!H72","v":"Zizai"},{"$f":"入力シート!H73","v":0},{"$f":"入力シート!H74","v":0},{"$f":"入力シート!H75","v":0},{"$f":"入力シート!H76","v":0},{"$f":"入力シート!H77","v":"コルセアPV"},{"$f":"入力シート!H78","v":"コルセアアルメット"},{"$f":"入力シート!H79","v":"一番槍PAD2"},{"$f":"入力シート!H80","v":"Guidezilla"},{"$f":"入力シート!H81","v":0},{"$f":"入力シート!H82","v":0},{"$f":"入力シート!H83","v":"クルセードPAD"},{"$f":"入力シート!H84","v":0},{"$f":"入力シート!H85","v":0},{"$f":"入力シート!K61","v":"Rebirth Pro2"},{"$f":"入力シート!K62","v":"Thrombuster"},{"$f":"入力シート!K63","v":0},{"$f":"入力シート!K64","v":0},{"$f":"入力シート!K65","v":0},{"$f":"入力シート!K66","v":"FILTRAP"},{"$f":"入力シート!K67","v":"SoutenirCV"},{"$f":"入力シート!K68","v":0},{"$f":"入力シート!K69","v":0},{"$f":"入力シート!K70","v":"ボストン"},{"$f":"入力シート!K71","v":"フィリップス"},{"$f":"入力シート!K72","v":"テルモ"},{"$f":"入力シート!K73","v":0},{"$f":"入力シート!K74","v":0},{"$f":"入力シート!K75","v":0},{"$f":"入力シート!K76","v":0},{"$f":"入力シート!K77","v":0},{"$f":"入力シート!K78","v":"Perclose"},{"$f":"入力シート!K79","v":"Exoseal"},{"$f":"入力シート!K80","v":"Angio-seal"},{"$f":"入力シート!K81","v":0},{"$f":"入力シート!K82","v":0},{"$f":"入力シート!K83","v":"クロッサー"},{"$f":"入力シート!K84","v":"OUTBACK"},{"$f":"入力シート!K85","v":0},{"$f":"入力シート!K86","v":0},{"$f":"入力シート!K87","v":0},{"$f":"入力シート!N61","v":"Epic"},{"$f":"入力シート!N62","v":"ルミネックス"},{"$f":"入力シート!N63","v":"スマート"},{"$f":"入力シート!N64","v":"VBX"},{"$f":"入力シート!N65","v":"エクスプレスLD"},{"$f":"入力シート!N66","v":"Misago"},{"$f":"入力シート!N67","v":0},{"$f":"入力シート!N68","v":0},{"$f":"入力シート!N69","v":0},{"$f":"入力シート!N70","v":"ELUVIA"},{"$f":"入力シート!N71","v":"Supera"},{"$f":"入力シート!N72","v":"バイアバーン"},{"$f":"入力シート!N73","v":0},{"$f":"入力シート!N74","v":0},{"$f":"入力シート!N75","v":"ゴア腹部"},{"$f":"入力シート!N76","v":"メドトロ腹部"},{"$f":"入力シート!N77","v":0},{"$f":"入力シート!N78","v":0},{"$f":"入力シート!N79","v":0},{"$f":"入力シート!N80","v":"デナリ"},{"$f":"入力シート!N81","v":"デナリ回収"},{"$f":"入力シート!N82","v":0},{"$f":"入力シート!N83","v":0},{"$f":"入力シート!N84","v":0},{"$f":"入力シート!N85","v":"ジェネシス"},{"$f":"入力シート!N86","v":"エクスプレスSD"},{"$f":"入力シート!N87","v":0}]
["日付","EVT件数","EVAR件数","TEVAR件数","BAV件数","IVC Filter件数","その他件数","Aorta","Iliac","SFA/POP/CFA","BK","Subclavian","Renal","Shunt PTA","0","Destination","Parent","CROSSROADS","BriteTip","02","03","04","朝日インテック","ボストン","テルモ","ニプロ","コーディス","05","06","コヨーテ","コヨーテES","ウルトラバースRx","アビエーター","シデンHP","マストリー","シデン","JADE","07","08","09","スターリング","Senri","010","011","012","マスタング","アルマダ35","013","014","015","Ranger","ルートニクス","インパクト","016","017","018","カッティングBC","NSE PTA","VASCUTRACK","019","020","021","イノウエバルーン","022","023","プロマネント","Caravel MC","Zizai","024","025","026","027","コルセアPV","コルセアアルメット","一番槍PAD2","Guidezilla","028","029","クルセードPAD","030","031","Rebirth Pro2","Thrombuster","032","033","034","FILTRAP","SoutenirCV","035","036","ボストン37","フィリップス","テルモ38","039","040","041","042","043","Perclose","Exoseal","Angio-seal","044","045","クロッサー","OUTBACK","046","047","048","Epic","ルミネックス","スマート49","VBX50","ジェネシス51","エクスプレスLD52","Misago53","054","055","ELUVIA56","Supera57","バイアバーン58","059","060","ゴア腹61","メドトロ腹62","063","064","065","デナリ66","デナリ回収67","068","069","070","ジェネシス71","エクスプレスSD","072","スマート","VBX","ジェネシス","エクスプレスLD","Misago","ELUVIA","Supera","バイアバーン","その他33","その他34","ゴア腹","メドトロ腹","その他35","その他36","その他37","デナリ","デナリ回収","その他38"]
["2000-01-01",10,2,1,2,3,1,2,2,1,1,1,1,1,0,4,1,1,1,0,0,0,5,3,2,1,1,0,0,5,2,2,5,2,2,2,5,0,0,0,3,2,0,0,0,2,2,0,0,0,5,3,3,0,0,0,4,5,4,0,0,0,5,0,0,4,2,3,0,0,0,0,5,3,2,2,0,0,5,0,0,3,6,0,0,0,2,2,0,0,5,2,3,0,0,0,0,0,2,3,4,0,0,2,5,0,0,0,3,2,3,2,2,2,0,0,0,4,3,2,0,0,4,2,0,0,0,3,2,0,0,0,3,3,0]

{"sheet":"PCIレポート","index":3,"n_rows":87,"n_cols":44,"rows_kept":87,"cut":false,"hidden":false,"merged":[[87,14,87,16],[6,1,7,1],[6,2,7,2],[6,3,7,3],[83,10,83,12],[84,10,84,12],[85,10,85,12],[86,10,86,12],[81,14,81,16],[82,14,82,16],[83,14,83,16],[84,14,84,16],[85,14,85,16],[83,2,83,4],[84,2,84,4],[85,2,85,4],[86,2,86,4],[87,2,87,4],[73,14,73,16],[74,14,74,16],[81,2,81,4],[82,2,82,4],[81,10,81,12],[82,10,82,12],[68,14,68,16],[69,14,69,16],[70,14,70,16],[71,14,71,16],[72,14,72,16],[76,2,76,4],[68,10,68,12],[69,10,69,12],[70,10,70,12],[71,10,71,12],[72,10,72,12],[73,10,73,12],[74,10,74,12],[75,10,75,12],[71,2,71,4],[72,2,72,4],[73,2,73,4],[74,2,74,4],[75,2,75,4],[5,14,5,16],[6,14,6,16],[7,14,7,16],[8,14,8,16],[61,10,61,12],[62,10,62,12],[51,14,51,16],[52,14,52,16],[53,14,53,16],[54,14,54,16],[55,14,55,16],[56,14,56,16],[57,14,57,16],[58,14,58,16],[59,14,59,16],[56,10,56,12],[57,10,57,12],[58,10,58,12],[59,10,59,12],[60,10,60,12],[51,10,51,12],[52,10,52,12],[53,10,53,12],[54,10,54,12],[44,2,44,4],[45,2,45,4],[55,10,55,12],[68,2,68,4],[69,2,69,4],[70,2,70,4],[61,2,61,4],[62,2,62,4],[63,2,63,4],[64,2,64,4],[56,2,56,4],[57,2,57,4],[58,2,58,4],[59,2,59,4],[60,2,60,4],[29,14,29,16],[30,14,30,16],[51,2,51,4],[52,2,52,4],[53,2,53,4],[54,2,54,4],[55,2,55,4],[38,14,38,16],[40,14,40,16],[42,14,42,16],[44,14,44,16],[39,2,39,4],[41,2,41,4],[42,2,42,4],[43,2,43,4],[39,10,39,12],[40,10,40,12],[41,10,41,12],[42,10,42,12],[43,10,43,12],[40,2,40,4],[44,10,44,12],[45,10,45,12],[46,10,46,12],[18,2,18,4],[19,2,19,4],[20,2,20,4],[21,2,21,4],[12,2,12,4],[13,2,13,4],[14,2,14,4],[15,2,15,4],[16,2,16,4],[17,2,17,4],[46,2,46,4],[31,14,31,16],[27,10,27,12],[28,10,28,12],[29,10,29,12],[30,10,30,12],[32,2,32,4],[32,10,32,12],[37,2,37,4],[38,2,38,4],[37,10,37,12],[38,10,38,12],[37,14,37,16],[39,14,39,16],[41,14,41,16],[43,14,43,16],[27,2,27,4],[28,2,28,4],[29,2,29,4],[30,2,30,4],[31,2,31,4],[31,10,31,12],[27,14,27,16],[28,14,28,16]]}
[]
[]
[]
[]
[]
[null,null,null,null,null,null,null,null,null,null,null,null,null,{"$f":"集計シート!DL5","v":"Diamondback"},{"$f":"集計シート!DL4","v":4}]
[null,"PCI",{"$f":"集計シート!B4","v":15},null,null,null,null,null,null,null,null,null,null,{"$f":"集計シート!DM5","v":"ROTA"},{"$f":"集計シート!DM4","v":3}]
[null,null,null,null,null,null,null,null,null,null,null,null,null,{"$f":"集計シート!DN5","v":"DCA"},{"$f":"集計シート!DN4","v":5}]
[null,null,null,null,null,null,null,null,null,null,null,null,null,{"$f":"集計シート!DO5","v":"Excimer Laser"},{"$f":"集計シート!DO4","v":2}]
[]
[]
[]
[null,null,{"$f":"集計シート!AV5","v":"Ultimaster"},null,null,{"$f":"集計シート!AV4","v":2},{"$f":"F13/(F13+F14+F15+F16+F17+F18+F19+F20+F21)","v":7.6923076923076927E-2},null,null,null,null,null,null,null,null,null,null,null,null,null,null,null,null,null,null,null,null,null,null,null,null,null,null,null,"Ultimaster","Xience","Synergy　XD","Resolute Onyx","Orsiro","GRAFTMASTER","Croflex ISAR NEO",0,0,0]
[null,null,{"$f":"集計シート!AW5","v":"Xience"},null,null,{"$f":"集計シート!AW4","v":3},{"$f":"F14/(F13+F14+F15+F16+F17+F18+F19+F20+F21)","v":0.11538461538461539},null,null,null,null,null,null,null,null,null,null,null,null,null,null,null,null,null,null,null,null,null,null,null,null,null,null,null,{"$f":"G13","v":7.6923076923076927E-2},{"$f":"G14","v":0.11538461538461539},{"$f":"G15","v":0.34615384615384615},{"$f":"G16","v":7.6923076923076927E-2},{"$f":"G17","v":0.19230769230769232},{"$f":"G18","v":3.8461538461538464E-2},{"$f":"G19","v":0.15384615384615385},{"$f":"G20","v":0},{"$f":"G21","v":0},{"$f":"G22","v":0}]
[null,null,{"$f":"集計シート!AX5","v":"Synergy　XD"},null,null,{"$f":"集計シート!AX4","v":9},{"$f":"F15/(F13+F14+F15+F16+F17+F18+F19+F20+F21)","v":0.34615384615384615}]
[null,null,{"$f":"集計シート!AY5","v":"Resolute Onyx"},null,null,{"$f":"集計シート!AY4","v":2},{"$f":"F16/(F13+F14+F15+F16+F17+F18+F19+F20+F21)","v":7.6923076923076927E-2}]
[null,null,{"$f":"集計シート!AZ5","v":"Orsiro"},null,null,{"$f":"集計シート!AZ4","v":5},{"$f":"F17/(F13+F14+F15+F16+F17+F18+F19+F20+F21)","v":0.19230769230769232}]
[null,null,{"$f":"集計シート!BA5","v":"GRAFTMASTER"},null,null,{"$f":"集計シート!BA4","v":1},{"$f":"F18/(F13+F14+F15+F16+F17+F18+F19+F20+F21)","v":3.8461538461538464E-2}]
[null,null,{"$f":"集計シート!BB5","v":"Croflex ISAR NEO"},null,null,{"$f":"集計シート!BB4","v":4},{"$f":"F19/(F13+F14+F15+F16+F17+F18+F19+F20+F21)","v":0.15384615384615385}]
[null,null,{"$f":"集計シート!BC5","v":0},null,null,{"$f":"集計シート!BC4","v":0},{"$f":"F20/(F13+F14+F15+F16+F17+F18+F19+F20+F21)","v":0}]
[null,null,{"$f":"集計シート!BD5","v":0},null,null,{"$f":"集計シート!BD4","v":0},{"$f":"F21/(F13+F14+F15+F16+F17+F18+F19+F20+F21)","v":0}]
[null,null,"Total",null,null,{"$f":"SUM(F13:F21)","v":26}]
[]
[]
[]
[]
[]
[null,null,{"$f":"集計シート!AR5","v":"SeQuent Please"},null,null,{"$f":"集計シート!AR4","v":3},{"$f":"F28/(F28+F29+F30+F31)","v":0.5},null,null,null,{"$f":"集計シート!D5","v":" PressureWireX"},null,null,{"$f":"集計シート!D4","v":2},{"$f":"N28/(N28+N29+N30+N31+N32)","v":0.2}]
[null,null,{"$f":"集計シート!AS5","v":"Agent"},null,null,{"$f":"集計シート!AS4","v":3},{"$f":"F29/(F28+F29+F30+F31)","v":0.5},null,null,null,{"$f":"集計シート!E5","v":"COMETⅡ"},null,null,{"$f":"集計シート!E4","v":3},{"$f":"N29/(N28+N29+N30+N31+N32)","v":0.3}]
[null,null,{"$f":"集計シート!AT5","v":0},null,null,{"$f":"集計シート!AT4","v":0},{"$f":"F30/(F28+F29+F30+F31)","v":0},null,null,null,{"$f":"集計シート!F5","v":"FFRangio"},null,null,{"$f":"集計シート!F4","v":5},{"$f":"N30/(N28+N29+N30+N31+N32)","v":0.5}]
[null,null,{"$f":"集計シート!AU5","v":0},null,null,{"$f":"集計シート!AU4","v":0},{"$f":"F31/(F28+F29+F30+F31)","v":0},null,null,null,{"$f":"集計シート!G5","v":0},null,null,{"$f":"集計シート!G4","v":0},{"$f":"N31/(N28+N29+N30+N31+N32)","v":0}]
[null,null,null,null,null,null,null,null,null,null,{"$f":"集計シート!H5","v":0},null,null,{"$f":"集計シート!H4","v":0},{"$f":"N32/(N28+N29+N30+N31+N32)","v":0}]
[null,null,"Total",null,null,{"$f":"SUM(F28:F32)","v":6},null,null,null,null,"Total",null,null,{"$f":"SUM(N28:N32)","v":10}]
[]
[]
[]
[]
[null,null,{"$f":"集計シート!I5","v":"ASAHI Hyperion"},null,null,{"$f":"集計シート!I4","v":12},{"$f":"F38/(F38+F39+F40+F41+F42+F43+F44)","v":0.70588235294117652},null,null,null,{"$f":"集計シート!P5","v":"朝日インテック"},null,null,{"$f":"集計シート!P4","v":5},{"$f":"N38/(N38+N39+N40+N41+N42+N43+N44+N45)","v":0.45454545454545453}]
[null,null,{"$f":"集計シート!J5","v":"Heartrail2"},null,null,{"$f":"集計シート!J4","v":1},{"$f":"F39/(F38+F39+F40+F41+F42+F43+F44)","v":5.8823529411764705E-2},null,null,null,{"$f":"集計シート!Q5","v":"テルモ"},null,null,{"$f":"集計シート!Q4","v":1},{"$f":"N39/(N38+N39+N40+N41+N42+N43+N44+N45)","v":9.0909090909090912E-2}]
[null,null,{"$f":"集計シート!K5","v":"LAUNCHER/TAIGA"},null,null,{"$f":"集計シート!K4","v":2},{"$f":"F40/(F38+F39+F40+F41+F42+F43+F44)","v":0.11764705882352941},null,null,null,{"$f":"集計シート!R5","v":"アボット"},null,null,{"$f":"集計シート!R4","v":1},{"$f":"N40/(N38+N39+N40+N41+N42+N43+N44+N45)","v":9.0909090909090912E-2}]
[null,null,{"$f":"集計シート!L5","v":"ROADMASTER"},null,null,{"$f":"集計シート!L4","v":2},{"$f":"F41/(F38+F39+F40+F41+F42+F43+F44)","v":0.11764705882352941},null,null,null,{"$f":"集計シート!S5","v":"ボストン"},null,null,{"$f":"集計シート!S4","v":1},{"$f":"N41/(N38+N39+N40+N41+N42+N43+N44+N45)","v":9.0909090909090912E-2}]
[null,null,{"$f":"集計シート!M5","v":0},null,null,{"$f":"集計シート!M4","v":0},{"$f":"F42/(F38+F39+F40+F41+F42+F43+F44)","v":0},null,null,null,{"$f":"集計シート!T5","v":"大塚メディカル"},null,null,{"$f":"集計シート!T4","v":1},{"$f":"N42/(N38+N39+N40+N41+N42+N43+N44+N45)","v":9.0909090909090912E-2}]
[null,null,{"$f":"集計シート!N5","v":0},null,null,{"$f":"集計シート!N4","v":0},{"$f":"F43/(F38+F39+F40+F41+F42+F43+F44)","v":0},null,null,null,{"$f":"集計シート!U5","v":"ニプロ"},null,null,{"$f":"集計シート!U4","v":2},{"$f":"N43/(N38+N39+N40+N41+N42+N43+N44+N45)","v":0.18181818181818182}]
[null,null,{"$f":"集計シート!O5","v":0},null,null,{"$f":"集計シート!O4","v":0},{"$f":"F44/(F38+F39+F40+F41+F42+F43+F44)","v":0},null,null,null,{"$f":"集計シート!V5","v":0},null,null,{"$f":"集計シート!V4","v":0},{"$f":"N44/(N38+N39+N40+N41+N42+N43+N44+N45)","v":0}]
[null,null,null,null,null,null,null,null,null,null,{"$f":"集計シート!W5","v":0},null,null,{"$f":"集計シート!W4","v":0},{"$f":"N45/(N38+N39+N40+N41+N42+N43+N44+N45)","v":0}]
[null,null,"Total",null,null,{"$f":"SUM(F38:F45)","v":17},null,null,null,null,"Total",null,null,{"$f":"SUM(N38:N45)","v":11}]
[]
[]
[]
[]
[]
[null,null,{"$f":"集計シート!X5","v":"テルモ"},null,null,{"$f":"集計シート!X4","v":2},{"$f":"F52/(F52+F53+F54+F55+F56+F57+F58+F59+F60+F61+F62)","v":0.18181818181818182},null,null,null,{"$f":"集計シート!AI5","v":"Wolverine"},null,null,{"$f":"集計シート!AI4","v":5},{"$f":"N52/(N52+N53+N54+N55+N56+N57+N58+N59+N60)","v":0.38461538461538464}]
[null,null,{"$f":"集計シート!Y5","v":"カネカ"},null,null,{"$f":"集計シート!Y4","v":1},{"$f":"F53/(F52+F53+F54+F55+F56+F57+F58+F59+F60+F61+F62)","v":9.0909090909090912E-2},null,null,null,{"$f":"集計シート!AJ5","v":"Ryusei"},null,null,{"$f":"集計シート!AJ4","v":1},{"$f":"N53/(N52+N53+N54+N55+N56+N57+N58+N59+N60)","v":7.6923076923076927E-2}]
[null,null,{"$f":"集計シート!Z5","v":"ネイチ"},null,null,{"$f":"集計シート!Z4","v":1},{"$f":"F54/(F52+F53+F54+F55+F56+F57+F58+F59+F60+F61+F62)","v":9.0909090909090912E-2},null,null,null,{"$f":"集計シート!AK5","v":"NSE"},null,null,{"$f":"集計シート!AK4","v":5},{"$f":"N54/(N52+N53+N54+N55+N56+N57+N58+N59+N60)","v":0.38461538461538464}]
[null,null,{"$f":"集計シート!AA5","v":"メドトロ"},null,null,{"$f":"集計シート!AA4","v":2},{"$f":"F55/(F52+F53+F54+F55+F56+F57+F58+F59+F60+F61+F62)","v":0.18181818181818182},null,null,null,{"$f":"集計シート!AL5","v":"Score Flex NC"},null,null,{"$f":"集計シート!AL4","v":1},{"$f":"N55/(N52+N53+N54+N55+N56+N57+N58+N59+N60)","v":7.6923076923076927E-2}]
[null,null,{"$f":"集計シート!AB5","v":"アボット"},null,null,{"$f":"集計シート!AB4","v":1},{"$f":"F56/(F52+F53+F54+F55+F56+F57+F58+F59+F60+F61+F62)","v":9.0909090909090912E-2},null,null,null,{"$f":"集計シート!AM5","v":"Angio Sculpt"},null,null,{"$f":"集計シート!AM4","v":1},{"$f":"N56/(N52+N53+N54+N55+N56+N57+N58+N59+N60)","v":7.6923076923076927E-2}]
[null,null,{"$f":"集計シート!AC5","v":"朝日インテック"},null,null,{"$f":"集計シート!AC4","v":1},{"$f":"F57/(F52+F53+F54+F55+F56+F57+F58+F59+F60+F61+F62)","v":9.0909090909090912E-2},null,null,null,{"$f":"集計シート!AN5","v":0},null,null,{"$f":"集計シート!AN4","v":0},{"$f":"N57/(N52+N53+N54+N55+N56+N57+N58+N59+N60)","v":0}]
[null,null,{"$f":"集計シート!AD5","v":"ニプロ"},null,null,{"$f":"集計シート!AD4","v":2},{"$f":"F58/(F52+F53+F54+F55+F56+F57+F58+F59+F60+F61+F62)","v":0.18181818181818182},null,null,null,{"$f":"集計シート!AO5","v":0},null,null,{"$f":"集計シート!AO4","v":0},{"$f":"N58/(N52+N53+N54+N55+N56+N57+N58+N59+N60)","v":0}]
[null,null,{"$f":"集計シート!AE5","v":"ボストン"},null,null,{"$f":"集計シート!AE4","v":1},{"$f":"F59/(F52+F53+F54+F55+F56+F57+F58+F59+F60+F61+F62)","v":9.0909090909090912E-2},null,null,null,{"$f":"集計シート!AP5","v":0},null,null,{"$f":"集計シート!AP4","v":0},{"$f":"N59/(N52+N53+N54+N55+N56+N57+N58+N59+N60)","v":0}]
[null,null,{"$f":"集計シート!AF5","v":0},null,null,{"$f":"集計シート!AF4","v":0},{"$f":"F60/(F52+F53+F54+F55+F56+F57+F58+F59+F60+F61+F62)","v":0},null,null,null,{"$f":"集計シート!AQ5","v":0},null,null,{"$f":"集計シート!AQ4","v":0},{"$f":"N60/(N52+N53+N54+N55+N56+N57+N58+N59+N60)","v":0}]
[null,null,{"$f":"集計シート!AG5","v":0},null,null,{"$f":"集計シート!AG4","v":0},{"$f":"F61/(F52+F53+F54+F55+F56+F57+F58+F59+F60+F61+F62)","v":0}]
[null,null,{"$f":"集計シート!AH5","v":0},null,null,{"$f":"集計シート!AH4","v":0},{"$f":"F62/(F52+F53+F54+F55+F56+F57+F58+F59+F60+F61+F62)","v":0}]
[null,null,"Total",null,null,{"$f":"SUM(F52:F62)","v":11},null,null,null,null,"Total",null,null,{"$f":"SUM(N52:N62)","v":13}]
[]
[]
[]
[]
[]
[null,null,{"$f":"集計シート!BN5","v":"Asahi Caravel"},null,null,{"$f":"集計シート!BN4","v":5},{"$f":"F69/(F69+F70+F71+F72+F73+F74+F75)","v":0.41666666666666669},null,null,null,{"$f":"集計シート!BU5","v":"ASAHI Corsair　Pro"},null,null,{"$f":"集計シート!BU4","v":5},{"$f":"N69/(N69+N70+N71+N72+N73+N74)","v":0.45454545454545453}]
[null,null,{"$f":"集計シート!BO5","v":"Zizai"},null,null,{"$f":"集計シート!BO4","v":5},{"$f":"F70/(F69+F70+F71+F72+F73+F74+F75)","v":0.41666666666666669},null,null,null,{"$f":"集計シート!BV5","v":"Tornus Pro"},null,null,{"$f":"集計シート!BV4","v":2},{"$f":"N70/(N69+N70+N71+N72+N73+N74)","v":0.18181818181818182}]
[null,null,{"$f":"集計シート!BP5","v":"Mizuki"},null,null,{"$f":"集計シート!BP4","v":1},{"$f":"F71/(F69+F70+F71+F72+F73+F74+F75)","v":8.3333333333333329E-2},null,null,null,{"$f":"集計シート!BW5","v":"Finecross"},null,null,{"$f":"集計シート!BW4","v":2},{"$f":"N71/(N69+N70+N71+N72+N73+N74)","v":0.18181818181818182}]
[null,null,{"$f":"集計シート!BQ5","v":"Mogul"},null,null,{"$f":"集計シート!BQ4","v":1},{"$f":"F72/(F69+F70+F71+F72+F73+F74+F75)","v":8.3333333333333329E-2},null,null,null,{"$f":"集計シート!BX5","v":"ルミネ"},null,null,{"$f":"集計シート!BX4","v":2},{"$f":"N72/(N69+N70+N71+N72+N73+N74)","v":0.18181818181818182}]
[null,null,{"$f":"集計シート!BR5","v":0},null,null,{"$f":"集計シート!BR4","v":0},{"$f":"F73/(F69+F70+F71+F72+F73+F74+F75)","v":0},null,null,null,{"$f":"集計シート!BY5","v":0},null,null,{"$f":"集計シート!BY4","v":0},{"$f":"N73/(N69+N70+N71+N72+N73+N74)","v":0}]
[null,null,{"$f":"集計シート!BS5","v":0},null,null,{"$f":"集計シート!BS4","v":0},{"$f":"F74/(F69+F70+F71+F72+F73+F74+F75)","v":0},null,null,null,{"$f":"集計シート!BZ5","v":0},null,null,{"$f":"集計シート!BZ4","v":0},{"$f":"N74/(N69+N70+N71+N72+N73+N74)","v":0}]
[null,null,{"$f":"集計シート!BT5","v":0},null,null,{"$f":"集計シート!BT4","v":0},{"$f":"F75/(F69+F70+F71+F72+F73+F74+F75)","v":0}]
[null,null,"Total",null,null,{"$f":"SUM(F69:F75)","v":12},null,null,null,null,"Total",null,null,{"$f":"SUM(N69:N75)","v":11}]
[]
[]
[]
[]
[]
[null,null,{"$f":"集計シート!BF5","v":"ニプロ"},null,null,{"$f":"集計シート!BF4","v":3},{"$f":"F82/(F82+F83+F84+F85+F86)","v":0.25},null,null,null,{"$f":"集計シート!CS5","v":"ボストン"},null,null,{"$f":"集計シート!CS4","v":1},{"$f":"N82/(N82+N83+N84+N85+N86)","v":7.6923076923076927E-2}]
[null,null,{"$f":"集計シート!BG5","v":"カネカ"},null,null,{"$f":"集計シート!BG4","v":2},{"$f":"F83/(F82+F83+F84+F85+F86)","v":0.16666666666666666},null,null,null,{"$f":"集計シート!CT5","v":"テルモ"},null,null,{"$f":"集計シート!CT4","v":1},{"$f":"N83/(N82+N83+N84+N85+N86)","v":7.6923076923076927E-2}]
[null,null,{"$f":"集計シート!BH5","v":"メドトロ"},null,null,{"$f":"集計シート!BH4","v":5},{"$f":"F84/(F82+F83+F84+F85+F86)","v":0.41666666666666669},null,null,null,{"$f":"集計シート!CU5","v":"フィリップス"},null,null,{"$f":"集計シート!CU4","v":5},{"$f":"N84/(N82+N83+N84+N85+N86)","v":0.38461538461538464}]
[null,null,{"$f":"集計シート!BI5","v":"ボストン"},null,null,{"$f":"集計シート!BI4","v":2},{"$f":"F85/(F82+F83+F84+F85+F86)","v":0.16666666666666666},null,null,null,{"$f":"集計シート!CV5","v":"ニプロ"},null,null,{"$f":"集計シート!CV4","v":1},{"$f":"N85/(N82+N83+N84+N85+N86)","v":7.6923076923076927E-2}]
[null,null,{"$f":"集計シート!BJ5","v":0},null,null,{"$f":"集計シート!BJ4","v":0},{"$f":"F86/(F82+F83+F84+F85+F86)","v":0},null,null,null,{"$f":"集計シート!CW5","v":"アシスト"},null,null,{"$f":"集計シート!CW4","v":5},{"$f":"N86/(N82+N83+N84+N85+N86)","v":0.38461538461538464}]
[null,null,"Total",null,null,{"$f":"SUM(F82:F86)","v":12},null,null,null,null,"Total",null,null,{"$f":"SUM(N82:N86)","v":13}]